BEGIN:VCALENDAR
VERSION:2.0
PRODID:-//CERN//INDICO//EN
BEGIN:VEVENT
SUMMARY:Page de recensement du RT Mathrice
DTSTART:20250715T120000Z
DTEND:20301231T150000Z
DTSTAMP:20260424T050800Z
UID:indico-event-14648@indico.math.cnrs.fr
DESCRIPTION:Cet évènement Indico est destiné à recenser les membres du
  RT Mathrice.\nToute personne souhaitant s'inscrire au RT Mathrice est inv
 itée à remplir le formulaire d'inscription. Lorsqu'une personne ne souha
 ite plus participer au RT Mathrice\, il suffit qu'elle supprime son inscri
 ption à cet évènement.\nLe dossier du mandat en court (2021-2025) est a
 ccessible ici : https://plmbox.math.cnrs.fr/f/ec9406d5aba3409faccf/?dl=1
 \nL'inscription à cet évènement ne fait partie d'aucun processus automa
 tique et en particulier l'inscription à la mailing liste Mathrice est un 
 processus séparé.\n\nhttps://indico.math.cnrs.fr/event/14648/
URL:https://indico.math.cnrs.fr/event/14648/
END:VEVENT
END:VCALENDAR
