BEGIN:VCALENDAR
VERSION:2.0
PRODID:-//CERN//INDICO//EN
BEGIN:VEVENT
SUMMARY:Magnetized by Rotation: Spin and Chiral Condensates in the NJL Mod
 el
DTSTART:20251204T130000Z
DTEND:20251204T140000Z
DTSTAMP:20260424T063800Z
UID:indico-event-14602@indico.math.cnrs.fr
DESCRIPTION:Speakers: Ashutosh Dash (Goethe University Frankfurt\, Allemag
 ne)\n\nRotation is known to restore chiral symmetry at sufficiently high a
 ngular velocity\, but it can also induce an axial-vector or spin condensat
 e. This condensate\, often overlooked\, can modify the behavior of the chi
 ral condensate and may even enhance it under rapid rotation. To study this
  interplay\, we compute the phase diagram of the chiral and spin condensat
 es within the Nambu–Jona-Lasinio (NJL) model formulated in a rigidly rot
 ating frame in the mean-field approximation. The resulting spin condensate
 \, which is closely related to magnetization\, offers a potential framewor
 k for understanding the extreme magnetization observed in neutron stars.\n
 \nhttps://indico.math.cnrs.fr/event/14602/
LOCATION:Salle 1180\, bâtiment E2 (Salle des séminaires )
URL:https://indico.math.cnrs.fr/event/14602/
END:VEVENT
END:VCALENDAR
