BEGIN:VCALENDAR
VERSION:2.0
PRODID:-//CERN//INDICO//EN
BEGIN:VEVENT
SUMMARY:Soutenance de Thèse de Léa Gohier
DTSTART:20250707T140000Z
DTEND:20250707T180000Z
DTSTAMP:20260423T145300Z
UID:indico-event-14571@indico.math.cnrs.fr
DESCRIPTION:Speakers: Léa Gohier (Université de Tours)\n\nhttps://indico
 .math.cnrs.fr/event/14571/
LOCATION:Salle des thèses (Tours UFR Sciences)
URL:https://indico.math.cnrs.fr/event/14571/
END:VEVENT
END:VCALENDAR
