BEGIN:VCALENDAR
VERSION:2.0
PRODID:-//CERN//INDICO//EN
BEGIN:VEVENT
SUMMARY:On S-Unit lattices
DTSTART:20250626T120000Z
DTEND:20250626T130000Z
DTSTAMP:20260423T142900Z
UID:indico-event-14529@indico.math.cnrs.fr
DESCRIPTION:Speakers: Afonso Li\n\nS-Unit lattices are certain lattices as
 sociated to a number fields and a finite set S of prime ideals. Their geom
 etry plays an important role in the cryptanalysis of "ideal lattices".\n\n
 https://indico.math.cnrs.fr/event/14529/
URL:https://indico.math.cnrs.fr/event/14529/
END:VEVENT
END:VCALENDAR
