BEGIN:VCALENDAR
VERSION:2.0
PRODID:-//CERN//INDICO//EN
BEGIN:VEVENT
SUMMARY:Soutenance de Thèse de Théo Girard
DTSTART:20250704T080000Z
DTEND:20250704T120000Z
DTSTAMP:20260423T142900Z
UID:indico-event-14352@indico.math.cnrs.fr
DESCRIPTION:Speakers: Théo Girard (Université de Tours)\n\nhttps://indic
 o.math.cnrs.fr/event/14352/
LOCATION:Salle des thèses (Tours UFR Sciences)
URL:https://indico.math.cnrs.fr/event/14352/
END:VEVENT
END:VCALENDAR
