BEGIN:VCALENDAR
VERSION:2.0
PRODID:-//CERN//INDICO//EN
BEGIN:VEVENT
SUMMARY:Inversion of Exponential-motivic Differential Operators
DTSTART:20250505T130000Z
DTEND:20250505T143000Z
DTSTAMP:20260422T225000Z
UID:indico-event-14337@indico.math.cnrs.fr
CONTACT:cecile@ihes.fr
DESCRIPTION:Speakers: Maxim Kontsevich (IHES)\n\nRunning Seminar\n \n====
 ====\nPour être informé des prochains séminaires vous pouvez vous abonn
 er à la liste de diffusion en écrivant un mail à sympa@listes.math.cnrs
 .fr avec comme sujet: "subscribe seminaire_mathematique PRENOM NOM"(indiqu
 ez vos propres prénom et nom) et laissez le corps du message vide.\n\nhtt
 ps://indico.math.cnrs.fr/event/14337/
LOCATION:Amphithéâtre Léon Motchane (IHES)
URL:https://indico.math.cnrs.fr/event/14337/
END:VEVENT
END:VCALENDAR
