BEGIN:VCALENDAR
VERSION:2.0
PRODID:-//CERN//INDICO//EN
BEGIN:VEVENT
SUMMARY:Séparation de phase et effets de bords pour des gaz sur réseau h
 ors-équilibres
DTSTART:20250507T120000Z
DTEND:20250507T140000Z
DTSTAMP:20260423T145300Z
UID:indico-event-14335@indico.math.cnrs.fr
DESCRIPTION:Speakers: Clément Erignoux\n\nhttps://indico.math.cnrs.fr/eve
 nt/14335/
LOCATION:Salle 112
URL:https://indico.math.cnrs.fr/event/14335/
END:VEVENT
END:VCALENDAR
