BEGIN:VCALENDAR
VERSION:2.0
PRODID:-//CERN//INDICO//EN
BEGIN:VEVENT
SUMMARY:Transport equations with Sobolev vector fields\, I
DTSTART:20250506T123000Z
DTEND:20250506T140000Z
DTSTAMP:20260423T103100Z
UID:indico-event-14331@indico.math.cnrs.fr
DESCRIPTION:Speakers: Elio Marconi (University of Padua)\n\nThe aim of thi
 s course is to provide an introduction to the theory of the ODE and the as
 sociated continuity equation for weakly differentiable vector fields\, and
  to illustrate some research directions in this domain.\n\nhttps://indico
 .math.cnrs.fr/event/14331/
LOCATION:Salle Cavailles (1R2-132)
URL:https://indico.math.cnrs.fr/event/14331/
END:VEVENT
END:VCALENDAR
