BEGIN:VCALENDAR
VERSION:2.0
PRODID:-//CERN//INDICO//EN
BEGIN:VEVENT
SUMMARY:Organizational meeting/Discussion
DTSTART:20250425T143000Z
DTEND:20250425T160000Z
DTSTAMP:20260424T055200Z
UID:indico-event-14319@indico.math.cnrs.fr
CONTACT:iygayur@gmail.com\;+41779802254
DESCRIPTION:https://indico.math.cnrs.fr/event/14319/
LOCATION:Salle Pierre Grisvard (IHP - Bâtiment Borel)
URL:https://indico.math.cnrs.fr/event/14319/
END:VEVENT
END:VCALENDAR
