BEGIN:VCALENDAR
VERSION:2.0
PRODID:-//CERN//INDICO//EN
BEGIN:VEVENT
SUMMARY:Jean-Baptiste Aubin\, INSA de Lyon\, "Statistique et Elections"
DTSTART:20250521T083000Z
DTEND:20250521T093000Z
DTSTAMP:20260424T055200Z
UID:indico-event-14312@indico.math.cnrs.fr
DESCRIPTION:Et si\, grâce aux mathématiques\, nous repensions la façon 
 même dont nous votons ? Enjeu capital et constitutif des démocraties re
 présentatives\, l’élection (et le mode de scrutin associé) est l’ou
 til d’expression incontournable des citoyennes et des citoyens. Etudier 
 les modes de scrutin d'un point de vue mathématique permet de dégager de
 s conditions importantes à respecter. Cependant\, un théorème important
  établi par l'économiste américain K. Arrow (Prix Nobel d'économie 197
 2) a laissé penser qu'il était impossible de trouver un mode de scrutin 
 mathématiquement satisfaisant. Aujourd’hui\, de nouvelles approches\, b
 asées sur l’évaluation plutôt que sur le classement\, permettent d’
 envisager le vote autrement. Venez les découvrir !\n\nhttps://indico.math
 .cnrs.fr/event/14312/
URL:https://indico.math.cnrs.fr/event/14312/
END:VEVENT
END:VCALENDAR
