BEGIN:VCALENDAR
VERSION:2.0
PRODID:-//CERN//INDICO//EN
BEGIN:VEVENT
SUMMARY:GDT déplacé vers les exposés du semetre
DTSTART:20250515T150000Z
DTEND:20250515T170000Z
DTSTAMP:20260423T021500Z
UID:indico-event-14294@indico.math.cnrs.fr
DESCRIPTION:les exposés du groupe de travail n'ont pas lieu en raison du 
 grand nombre d'exposés du semestre  \nHolomorphic Dynamics and Geometry 
 of Surfaces (02/25 --> 06/25)\nhttps://indico.math.cnrs.fr/category/740/\n
 \nhttps://indico.math.cnrs.fr/event/14294/
URL:https://indico.math.cnrs.fr/event/14294/
END:VEVENT
END:VCALENDAR
