BEGIN:VCALENDAR
VERSION:2.0
PRODID:-//CERN//INDICO//EN
BEGIN:VEVENT
SUMMARY:GDT annulé en raison du  8 mai
DTSTART:20250508T150000Z
DTEND:20250508T170000Z
DTSTAMP:20260422T225100Z
UID:indico-event-14293@indico.math.cnrs.fr
DESCRIPTION:jour férié\n\nhttps://indico.math.cnrs.fr/event/14293/
URL:https://indico.math.cnrs.fr/event/14293/
END:VEVENT
END:VCALENDAR
