BEGIN:VCALENDAR
VERSION:2.0
PRODID:-//CERN//INDICO//EN
BEGIN:VEVENT
SUMMARY:PIICQ June 2025: Thomas Buc d'Alché and Carla Mariana da Silva Pi
 nheiro
DTSTART:20250630T143000Z
DTEND:20250630T163000Z
DTSTAMP:20260423T021500Z
UID:indico-event-14244@indico.math.cnrs.fr
CONTACT:tarricone@imj-prg.fr\;harriet.walsh@ucd.ie
DESCRIPTION:The June 2025 meeting\, the last of the year before the summer
  break\, will take place on 30/06/2025 at 16:30-18:30 Paris time. We will 
 have two talks\, from Thomas Buc d'Alché (ENS de Lyon) and Carla Mariana 
 da Silva Pinheiro (Universidad Sao Carlos). \n\nhttps://indico.math.cnrs.
 fr/event/14244/
LOCATION:Zoom
URL:https://indico.math.cnrs.fr/event/14244/
END:VEVENT
END:VCALENDAR
