BEGIN:VCALENDAR
VERSION:2.0
PRODID:-//CERN//INDICO//EN
BEGIN:VEVENT
SUMMARY:G-rational varieties
DTSTART:20250416T140000Z
DTEND:20250416T150000Z
DTSTAMP:20260422T225100Z
UID:indico-event-14243@indico.math.cnrs.fr
DESCRIPTION:Speakers: Antoine Pinardin (University of Edinburgh)\n\nhttps:
 //indico.math.cnrs.fr/event/14243/
LOCATION:318
URL:https://indico.math.cnrs.fr/event/14243/
END:VEVENT
END:VCALENDAR
