BEGIN:VCALENDAR
VERSION:2.0
PRODID:-//CERN//INDICO//EN
BEGIN:VEVENT
SUMMARY:Quid seminar
DTSTART:20250416T160000Z
DTEND:20250416T171500Z
DTSTAMP:20260424T095000Z
UID:indico-event-14220@indico.math.cnrs.fr
DESCRIPTION:Speakers: Elena Dimitriadis Bermejo (INSA Toulouse)\n\nTitle: 
 To categories and beyond!\n \nHave you ever heard about categories? I thi
 nk most of us have\, even if it's just from that one friend we all had dur
 ing our Masters who discovered about them and immediately went nuts. But d
 id you know categories are just the beginning? Enriched categories\, monoi
 dal categories\, model categories... so many other things we can do! In th
 is talk\, I will try to introduce a few different categorical tools and co
 nstructions via the toy example of the Derived Category over a ring. I wil
 l discuss how to localize a category\, and how to localize it correctly\; 
 define dg-categories over a ring\, and use them to compute the Derived Cat
 egory. And if time allows\, I will delve into how dg-categories are not pe
 rfect either\, and how my work has been geared toward improving them.\n\nh
 ttps://indico.math.cnrs.fr/event/14220/
LOCATION:Room 129 Picard (IMT - 1R2)
URL:https://indico.math.cnrs.fr/event/14220/
END:VEVENT
END:VCALENDAR
