BEGIN:VCALENDAR
VERSION:2.0
PRODID:-//CERN//INDICO//EN
BEGIN:VEVENT
SUMMARY:Une nouvelle approche à la compactification projective de l'espac
 e temps.
DTSTART:20250411T113000Z
DTEND:20250411T123000Z
DTSTAMP:20260423T111200Z
UID:indico-event-14196@indico.math.cnrs.fr
DESCRIPTION:Speakers: Yannick Herfray (Université de Tours)\n\nJe présen
 terai mes derniers travaux avec Jack Borthwick et Mael Chantreau sur les c
 ompactifications projectives des espaces temps. L'un de nos résultats est
  que le bord projectif peut toujours être étendu de manière canonique p
 ar un fibré R-principal. En particulier\, les données asymptotiques des 
 champs massifs sont équivalentes à des sections de ce fibré: cela perme
 t de réaliser géométriquement les champs comme des représentations uni
 taires du groupe de symétries asymptotiques et cela ouvre aussi potentiel
 lement la porte à un programme de scattering des champs massif sur des es
 paces asymptotiquement plats.\n\nhttps://indico.math.cnrs.fr/event/14196/
LOCATION:1180 (Bât. E2) (Tours)
URL:https://indico.math.cnrs.fr/event/14196/
END:VEVENT
END:VCALENDAR
