BEGIN:VCALENDAR
VERSION:2.0
PRODID:-//CERN//INDICO//EN
BEGIN:VEVENT
SUMMARY:Round Meanfield IV:  N-body sul Canal Grande
DTSTART:20250928T070000Z
DTEND:20251003T150000Z
DTSTAMP:20260423T143000Z
UID:indico-event-14152@indico.math.cnrs.fr
DESCRIPTION:Check the program of the conference!\nDownload the book of abs
 tracts\nLarge number agent systems is a fastly expanding domain whose scop
 e goes much further than the standard topics dof mean field limit in parti
 cle systems. Among the many new directions let us quote social sciences (i
 n particular the study of traffic flows)\, biology with chemiotaxis and ec
 onomy\, data science and artificial intelligence\, to mention just a few. 
 Together with this explosion of new fields of interests\, new mathematical
  paradigms have recently emerged  for example multiplewise interactions\, 
 in opposition with the standard two-body systems.\n \nThe aim of this wor
 kshop is to bring together people arising from different thematic horizons
  and different technical cultures. The presentationss will be accompanied 
 by large periods of discussion in order to stimulate deep debates involvin
 g all the participants of this transdisciplinary conference.Following this
  3-day conference - September 29/October 1rst -  we will organize an infor
 mal  2-day "working group" type session for those who want to continue th
 e discussion.. The idea is for volunteer participants to propose a present
 ation on articles on their own or not\, in order to generate discussion an
 d foster possible new collaborations. \n \nPaola Goatin\, Lorenzo Paresch
 i\, Thierry Paul\, Francesco Rossi\, Emmanuel Trélat\, orgs.\n \n \nInv
 ited speakears\n \nGiacomo Albi (Università di Verona)\nBenoît Bonnet-W
 eill (Laboratoire des Signaux et Systèmes Paris)\nitalo Capuzzo Dolcetta 
 (Roma)\nAnnalisa Cesaroni (Università di Padova)\nAdriano Festa (Politecn
 ico di Torino)\nMitia  Duerinckx (Université Libre de Brussels)\nBorjan 
 Geshkovski (Laboratoire Jacques-Louis Lions Paris)\nAbderrahmane Habbal (U
 niversité Côte d'Azur Nice)\nSophie Hecht (Laboratoire jacques-Louis Lio
 ns Paris)\nMichael Herty. (Institut für Geometrie und Praktische Mathemat
 ik Aachen)\nDante Kalise-Balza (Imperial College London)\nPierre Le Bris (
 Institut des Hautes  Études Scientifiques Paris)\nMarta Menci (Campus Bi
 o-Medico di Roma) \nDiane Peurichard (inria Paris)\nBenedetto Piccoli (Ru
 tgers University)\nStefano Rossi (ETH Zurich)\nLucia Russo (Istituto di Sc
 ienze e Tecnologie per l'Energia e la Mobilità sostenibile)\nMattia Zanel
 la (Università di Pavia)\n \n \n \n                 
            Registration is free but mandatory\n \n \n \n \n
                                      
         \n \n                     \n     
                         \n              \n
  \n\n \n\n\nhttps://indico.math.cnrs.fr/event/14152/
IMAGE;VALUE=URI:https://indico.math.cnrs.fr/event/14152/logo-4197051256.pn
 g
LOCATION:Università Iuav\, via Santa Croce 1957 – Venezia Italia\, sala
  B2 
URL:https://indico.math.cnrs.fr/event/14152/
END:VEVENT
END:VCALENDAR
