BEGIN:VCALENDAR
VERSION:2.0
PRODID:-//CERN//INDICO//EN
BEGIN:VEVENT
SUMMARY:Intégrales de Cauchy\, espaces de Sobolev fractionnaires et domai
 nes lipschitziens
DTSTART:20250422T120000Z
DTEND:20250422T130000Z
DTSTAMP:20260424T082900Z
UID:indico-event-14140@indico.math.cnrs.fr
DESCRIPTION:Speakers: Michel Zinsmeister\n\nEn 1982 Coifman\, McIntosh et 
 Meyer ont prouvé que l'intégrale de Cauchy définit un opérateur borné
  sur L$^2$ pour les courbes lipschitziennes. Nous étudions l'analogue de 
 ce résultat pour les espaces de Sobolev fractionnaires\, dans des domaine
 s non nécessairement rectifiables du plan. \n\nhttps://indico.math.cnrs.
 fr/event/14140/
LOCATION:Salle de séminaire (Orléans institut Denis Poisson)
URL:https://indico.math.cnrs.fr/event/14140/
END:VEVENT
END:VCALENDAR
