BEGIN:VCALENDAR
VERSION:2.0
PRODID:-//CERN//INDICO//EN
BEGIN:VEVENT
SUMMARY:ALGANT Graduation 2025
DTSTART:20250709T063000Z
DTEND:20250711T153000Z
DTSTAMP:20260422T225000Z
UID:indico-event-14059@indico.math.cnrs.fr
CONTACT:denis.benois@math.u-bordeaux.fr\;christopher.niesen@u-bordeaux.fr
DESCRIPTION:\n\nhttps://indico.math.cnrs.fr/event/14059/
LOCATION:Université  de Bordeaux  
URL:https://indico.math.cnrs.fr/event/14059/
END:VEVENT
END:VCALENDAR
