BEGIN:VCALENDAR
VERSION:2.0
PRODID:-//CERN//INDICO//EN
BEGIN:VEVENT
SUMMARY:Réécriture supérieure linéaire et application aux algèbres di
 agrammatiques
DTSTART:20250626T091500Z
DTEND:20250626T101500Z
DTSTAMP:20260423T021500Z
UID:indico-event-14025@indico.math.cnrs.fr
DESCRIPTION:Speakers: Léo Schelstraete (MPIM Bonn)\n\nEtant donnée une a
 lgèbre présentée\, comment peut-on en donner une base ? Cette question 
 fondamentale peut être résolu grâce à la théorie de réécriture\, qu
 i englobe la théorie des bases de Gröbner-Shirshov et le lemme du diaman
 t de Bergman. Dans cet exposé\, je présenterai une théorie de réécrit
 ure adaptée aux catégories monoidales linéaires\, et plus particulière
 ment aux algèbres diagrammatiques telles qu’elles apparaissent en théo
 rie de représentation et en topologie. J’insisterai sur les différence
 s avec le cadre classique\, et donnerai une application à la topologie qu
 antique. Je conclurai par certaines directions de recherche ouvertes.\n\nh
 ttps://indico.math.cnrs.fr/event/14025/
LOCATION:112 (Braconnier)
URL:https://indico.math.cnrs.fr/event/14025/
END:VEVENT
END:VCALENDAR
