BEGIN:VCALENDAR
VERSION:2.0
PRODID:-//CERN//INDICO//EN
BEGIN:VEVENT
SUMMARY:Un cas de densité de formes de tores périodiques
DTSTART:20250314T093000Z
DTEND:20250314T103000Z
DTSTAMP:20260424T223600Z
UID:indico-event-14017@indico.math.cnrs.fr
DESCRIPTION:Speakers: Dang Thi\n\nTitre : Un cas de densité de formes de 
 tores périodiques\nRésumé : Dans un résultat précédent avec Jialun L
 i\, nous étudions pour SL(n\,R) où n>2 une généralisation du flot géo
 désique. Au lieu de compter les orbites périodiques du flots géodésiqu
 es\, nous comptions des orbites compactes de l'action du groupe des matric
 es diagonales : des tores périodiques. Je vais vous présenter un travail
  en commun avec Jialun Li et Nihar Gargava\, où nous étudions les formes
  des orbites compactes pour les orbites du groupe diagonal dans SL(3\,R)/S
 L(3\,Z). Nous obtenons un résultat de densité de ces formes.\n\nhttps://
 indico.math.cnrs.fr/event/14017/
URL:https://indico.math.cnrs.fr/event/14017/
END:VEVENT
END:VCALENDAR
