BEGIN:VCALENDAR
VERSION:2.0
PRODID:-//CERN//INDICO//EN
BEGIN:VEVENT
SUMMARY:Existence de structures invariantes pour les systèmes hamiltonien
 s dépendants du temps
DTSTART:20250306T130000Z
DTEND:20250306T140000Z
DTSTAMP:20260425T212700Z
UID:indico-event-13923@indico.math.cnrs.fr
DESCRIPTION:Speakers: Cristian Mendico (IMB)\n\nTout d’abord on discuter
 a du lien entre la théorie KAM et la théorie KAM faible\, notamment de l
 a méthode Hamilton-Jacobi pour déterminer les structures invariantes pou
 r des systèmes qui ne respectent pas les hypothèse KAM.Après\, on verra
  une extension dans le cas des systèmes hamiltoniens dépendant du temps 
 et l'exemple de "swing equation" avec une perturbation.\n\nhttps://indico.
 math.cnrs.fr/event/13923/
LOCATION:A318 (IMB)
URL:https://indico.math.cnrs.fr/event/13923/
END:VEVENT
END:VCALENDAR
