BEGIN:VCALENDAR
VERSION:2.0
PRODID:-//CERN//INDICO//EN
BEGIN:VEVENT
SUMMARY:Instabilities and transitions in geophysical flows
DTSTART:20260518T063000Z
DTEND:20260522T153000Z
DTSTAMP:20260420T125000Z
UID:indico-event-13869@indico.math.cnrs.fr
CONTACT:geomaths2026@ihp.fr
DESCRIPTION:Mathematical developments in geophysical fluid dynamics\nWorks
 hop 2:  Instabilities and transitions in geophysical flows\nMay 18 to 22\
 , 2026 - IHP\, Paris\nInstabilities and sharp transitions are ubiquitous i
 n geophysical fluid dynamics (GFD). This Workshop will gather experts on i
 nstabilities in GFD as well as on abrupt transitions (saddle-node bifurcat
 ions).\nPartial list of speakers (to be confirmed):\n\nKeaton Burns (Massa
 chusetts Institute of Technology)\nColm Caulfield (University of Cambridge
 )\nPeter Constantin (Princeton University)\nEmmanuel Grenier (Beijing Inst
 itute of Technology)\nStephen Griffies (Princeton University)\nCeline Guer
 villy (Newcastle University)\nJulien Guillod (Sorbonne Université)\nEdgar
  Knobloch (University of California\, Berkeley)\nPeter Korn (Max Planck In
 stitute for Meteorology)\nStefan Llewellyn Smith (University of California
 \, San Diego)\nNader Masmoudi (New-York University Abu Dhabi)\nLouis-Phili
 ppe Nadeau (Université du Québec à Rimouski)\nCharlotte Perrin (CNRS\, 
 Aix-Marseille Université)\nCatherine Sulem (University of Toronto)\nLász
 ló Székelyhidi (Max Planck Institute\, Leipzig)\nIan Tice (Carnegie Mell
 on University)\nAntoine Venaille (CNRS\, ENS Lyon)\nVlad Vicol (New York U
 niversity)\n\n\nOrganising Committee:\n\nEmmanuel Dormy\nChristophe Lacave
 \nLudivine Oruba\nAlexis Vasseur\n\n\nhttps://indico.math.cnrs.fr/event/13
 869/
IMAGE;VALUE=URI:https://indico.math.cnrs.fr/event/13869/logo-1140816262.pn
 g
LOCATION:Amphithéâtre Hermite (Institut Henri Poincaré)
URL:https://indico.math.cnrs.fr/event/13869/
END:VEVENT
END:VCALENDAR
