BEGIN:VCALENDAR
VERSION:2.0
PRODID:-//CERN//INDICO//EN
BEGIN:VEVENT
SUMMARY:Solitons de translation du flot de la courbure moyenne dans $\\mat
 hbb H^3$
DTSTART:20250314T123000Z
DTEND:20250314T133000Z
DTSTAMP:20260423T145300Z
UID:indico-event-13826@indico.math.cnrs.fr
DESCRIPTION:Speakers: Alvaro Kruger Ramos (Université Gustave Eiffel - Un
 iversité Fédéral du Rio Grande do Sul)\n\nNous présenterons des résul
 tats d'existence et de classification de certains solitons de translation 
 (ou translators) pour le flot de la courbure moyenne dans l'espace hyperbo
 lique de dimension 3.\nTravail en collaboration avec R. de Lima et J. P. d
 os Santos.\n\nhttps://indico.math.cnrs.fr/event/13826/
LOCATION:1180 (Bât. E2) (Tours)
URL:https://indico.math.cnrs.fr/event/13826/
END:VEVENT
END:VCALENDAR
