BEGIN:VCALENDAR
VERSION:2.0
PRODID:-//CERN//INDICO//EN
BEGIN:VEVENT
SUMMARY:Jordan Type of Artinian Algebras and Geometry of Punctual Hilbert 
 Schemes’
DTSTART:20250623T070000Z
DTEND:20250627T150000Z
DTSTAMP:20260423T195400Z
UID:indico-event-13701@indico.math.cnrs.fr
DESCRIPTION:Le programme de la conférence est ici : https://indico.math.c
 nrs.fr/event/14442/\n\nhttps://indico.math.cnrs.fr/event/13701/
URL:https://indico.math.cnrs.fr/event/13701/
END:VEVENT
END:VCALENDAR
