BEGIN:VCALENDAR
VERSION:2.0
PRODID:-//CERN//INDICO//EN
BEGIN:VEVENT
SUMMARY:Plongements dans les corps de nombres
DTSTART:20250515T140000Z
DTEND:20250515T150000Z
DTSTAMP:20260423T043400Z
UID:indico-event-13655@indico.math.cnrs.fr
DESCRIPTION:Speakers: Christian Maire (Université de Besançon)\n\nDans c
 et exposé\, nous passerons en revue quelques récents résultats sur des 
 questions de plongements dans les corps de nombres : représentations galo
 isiennes\, produits de Massey\, Galois inverse pour les p-tours de Hilbert
 \, etc.\n\nhttps://indico.math.cnrs.fr/event/13655/
LOCATION:Salle Pellos (1R2)
URL:https://indico.math.cnrs.fr/event/13655/
END:VEVENT
END:VCALENDAR
