BEGIN:VCALENDAR
VERSION:2.0
PRODID:-//CERN//INDICO//EN
BEGIN:VEVENT
SUMMARY:Irrationalité de fibrés en coniques et réduction modulo 2
DTSTART:20250318T130000Z
DTEND:20250318T140000Z
DTSTAMP:20260423T043400Z
UID:indico-event-13630@indico.math.cnrs.fr
DESCRIPTION:Speakers: Giuseppe Ancona (Strasbourg)\n\nEn 1972 Artin et Mum
 ford ont montré un célèbre critère d’irrationalité pour l’espace 
 total d’un fibré en coniques (sous certaines hypothèses sur le discrim
 inant). Leur critère est valable en caractéristique différente de 2. Da
 ns cet exposé nous expliquerons pourquoi c’est en fait utile de travail
 ler en caractéristique 2 : d’une part c’est plus simple de construire
  des exemples où appliquer le critère\, d’autre part les techniques de
  dégénération « à la Voisin » permettent d’en déduire des résult
 ats en caractéristique zéro.C’est un travail en commun avec Emiliano A
 mbrosi.\n\nhttps://indico.math.cnrs.fr/event/13630/
LOCATION:IMT 1R2 207 (Salle Pellos)
URL:https://indico.math.cnrs.fr/event/13630/
END:VEVENT
END:VCALENDAR
