BEGIN:VCALENDAR
VERSION:2.0
PRODID:-//CERN//INDICO//EN
BEGIN:VEVENT
SUMMARY:TBA
DTSTART:20250515T120000Z
DTEND:20250515T130000Z
DTSTAMP:20260423T021500Z
UID:indico-event-13342@indico.math.cnrs.fr
DESCRIPTION:Speakers: Brune Massoulié (Paris Dauphine PSL)\n\nhttps://ind
 ico.math.cnrs.fr/event/13342/
LOCATION:Fokko du Cloux (ICJ (Lyon 1))
URL:https://indico.math.cnrs.fr/event/13342/
END:VEVENT
END:VCALENDAR
