BEGIN:VCALENDAR
VERSION:2.0
PRODID:-//CERN//INDICO//EN
BEGIN:VEVENT
SUMMARY:La monotuile apériodique de Smith\, Myers\, Kaplan and Goodman-St
 rauss
DTSTART:20231207T150000Z
DTEND:20231207T170000Z
DTSTAMP:20260423T145300Z
UID:indico-event-11111@indico.math.cnrs.fr
DESCRIPTION:Speakers: Arnaud Chéritat (CNRS/Institut de Mathéamtiques de
  Toulouse)\n\nLe but de l'exposé sera de présenter cette tuile qui pave 
 le plan uniquement de manière apériodique et de montrer quelques propri
 étés des pavages obtenus. On peut trouver la prépublication ici:https:/
 /arxiv.org/abs/2303.10798mais il y a eu déjà quelques développem
 ents. \n\nhttps://indico.math.cnrs.fr/event/11111/
LOCATION:IMT salle F. Pellos (1R2-207)
URL:https://indico.math.cnrs.fr/event/11111/
END:VEVENT
END:VCALENDAR
