BEGIN:VCALENDAR
VERSION:2.0
PRODID:-//CERN//INDICO//EN
BEGIN:VEVENT
SUMMARY:Approche de type «Embedded-Finite Element Method» pour la prise 
 en compte de l'effet de taille dans les nanocomposites
DTSTART:20231128T131500Z
DTEND:20231128T141500Z
DTSTAMP:20260423T155700Z
UID:indico-event-10916@indico.math.cnrs.fr
DESCRIPTION:Speakers: Delphine Brancherie (UTC - Roberval)\n\nLes matéria
 ux nanocomposites - matériaux incorporant des nano-inclusions - présente
 nt la particularité d'exhiber des propriétés physiques\, en particulier
  mécaniques\, dépendant de la taille des inclusions et non pas seulement
  de la fraction volumique d'inclusions comme cela est le cas pour les mat
 ériaux composites standards. Les outils de modélisation mécanique de ce
 s matériaux s'appuient\, dans le cadre de la mécanique des milieux conti
 nus\, sur l'introduction d'une élasticité de surface à l'interface matr
 ice / inclusion dont l'équilibre est régie par la loi de Young-Laplace g
 énéralisée. Nous développons ici une approche numérique basée sur l
 a méthode dite Embedded Finite Element (E-FEM) afin de prendre en compte 
 cette élasticité de surface. Pour des formes d'inclusions simples\, les 
 performances de la méthode numérique sont comparées aux solutions analy
 tiques et à d'autres approches numériques de la littérature. Cette comp
 araison met en avant l'efficacité de l'approche proposée. Son extension 
 est ensuite envisagée pour des formes d'inclusions plus complexes et des 
 comportements non linéaires des différents constituants (matrice et incl
 usion).\n\nhttps://indico.math.cnrs.fr/event/10916/
LOCATION:UTC - GI
URL:https://indico.math.cnrs.fr/event/10916/
END:VEVENT
END:VCALENDAR
