BEGIN:VCALENDAR
VERSION:2.0
PRODID:-//CERN//INDICO//EN
BEGIN:VEVENT
SUMMARY:La fin de la thèse... Et après ?
DTSTART:20231123T143000Z
DTEND:20231123T153000Z
DTSTAMP:20260423T064700Z
UID:indico-event-10911@indico.math.cnrs.fr
DESCRIPTION:Discussions (en français) sur la fin de thèse et les différ
 entes carrières après la thèse\, à destination des doctorants/postdoct
 orants de l'IMT et en présence de deux anciens doctorants actuellement en
  poste dans le privé :- Jonathan Guerra (Airbus):  Expert en méthodes d
 'optimisation pour la planification de missions de satellites- Matthias de
  Lozzo (IRT Saint-Exupéry): Ingénieur de recherche en méthodes statisti
 ques et apprentissage.\n\nhttps://indico.math.cnrs.fr/event/10911/
LOCATION:salle Johnson
URL:https://indico.math.cnrs.fr/event/10911/
END:VEVENT
END:VCALENDAR
