BEGIN:VCALENDAR
VERSION:2.0
PRODID:-//CERN//INDICO//EN
BEGIN:VEVENT
SUMMARY:Ensemble contrôlabilité pour une classe d'équations parabolique
 s.
DTSTART:20231124T090000Z
DTEND:20231124T100000Z
DTSTAMP:20260423T145300Z
UID:indico-event-10815@indico.math.cnrs.fr
DESCRIPTION:Speakers: Baparou Danhane (Université de Lorraine)\n\nRésum
 é :  La modélisation de systèmes physiques fait intervenir\, le plus s
 ouvent\, dans la dynamique de ces derniers des paramètres qui leurs sont 
 inhérents et dont\, en réalité\, on ne connait avec précision. Pour le
 s questions de contrôle classique\, il est souvent de coutume de supposer
  ces paramètres  connus et construire des contrôles qui dépendent impl
 icitement de ces paramètres. De ce fait\, lorsqu'il y a modification de c
 es paramètres\, le contrôle construit n'est plus en mesure de résoudre 
 le problème de contrôle pour lequel il a été confectionné.    Le c
 oncept d'ensemble contrôlabilité a été introduit dans le but d'étudie
 r la contrôlabilité des systèmes dont la dynamique dépends de paramèt
 res avec des contrôles indépendants de ces paramètres. Ceci afin de ren
 dre ces contrôles robustes par rapport aux éventuels variations dans les
  paramètres.    Ce concept a souvent été considéré dans le cadre d
 es systèmes linéaires de type "dimension finie". Dans notre exposé\, no
 us parlerons de l'ensemble contrôlabilité d'une classe d'équations para
 boliques. En particulier\, nous considérons l'équation de la chaleur ave
 c un coefficientde diffusion qui appartient à un compact de l'axe réel p
 uis nous montrons qu'on peut "contrôler" ce système avec des contrôles 
 internes  indépendants de ce coefficient.\n\nhttps://indico.math.cnrs.fr
 /event/10815/
LOCATION:salle J. Cavailles 1R2-132 (IMT)
URL:https://indico.math.cnrs.fr/event/10815/
END:VEVENT
END:VCALENDAR
