BEGIN:VCALENDAR
VERSION:2.0
PRODID:-//CERN//INDICO//EN
BEGIN:VEVENT
SUMMARY:Codimension two sections of subadjoint varieties
DTSTART:20231002T120000Z
DTEND:20231002T140000Z
DTSTAMP:20260423T083000Z
UID:indico-event-10801@indico.math.cnrs.fr
DESCRIPTION:Speakers: Yingqi Liu\n\nhttps://indico.math.cnrs.fr/event/1080
 1/
URL:https://indico.math.cnrs.fr/event/10801/
END:VEVENT
END:VCALENDAR
