BEGIN:VCALENDAR
VERSION:2.0
PRODID:-//CERN//INDICO//EN
BEGIN:VEVENT
SUMMARY:Espace de paramètres des polynomes cubiques
DTSTART:20231013T140000Z
DTEND:20231013T150000Z
DTSTAMP:20260423T115200Z
UID:indico-event-10785@indico.math.cnrs.fr
DESCRIPTION:Speakers: Xavier Buff (IMT)\, Runze Zhang (IMT)\n\nhttps://ind
 ico.math.cnrs.fr/event/10785/
LOCATION:cavailles
URL:https://indico.math.cnrs.fr/event/10785/
END:VEVENT
END:VCALENDAR
