BEGIN:VCALENDAR
VERSION:2.0
PRODID:-//CERN//INDICO//EN
BEGIN:VEVENT
SUMMARY:No seminar
DTSTART:20231110T080000Z
DTEND:20231110T170000Z
DTSTAMP:20260423T111200Z
UID:indico-event-10745@indico.math.cnrs.fr
DESCRIPTION:https://indico.math.cnrs.fr/event/10745/
URL:https://indico.math.cnrs.fr/event/10745/
END:VEVENT
END:VCALENDAR
