BEGIN:VCALENDAR
VERSION:2.0
PRODID:-//CERN//INDICO//EN
BEGIN:VEVENT
SUMMARY:Décroissance de l'énergie locale et asymptotique basse fréquenc
 e pour  l'équation de Schrödinger
DTSTART:20231109T130000Z
DTEND:20231109T140000Z
DTSTAMP:20260422T225000Z
UID:indico-event-10702@indico.math.cnrs.fr
DESCRIPTION:Speakers: Julien Royer (Toulouse)\n\nOn s'intéresse à la dé
 croissance de l'énergie locale pour l'équation de Schrödinger dans un 
 cadre asymptotiquement Euclidien. Pour cela\, on s'intéresse plus préci
 sément au comportement de la résolvante pour les basses fréquences. On
  verra comment utiliser des idées venant de l'étude des ondes amorties 
 pour obtenir le profil asymptotique pour la résolvante\, puis celui de l
 a solution en temps grand.\n\nhttps://indico.math.cnrs.fr/event/10702/
LOCATION:Salle de Séminaires (Orléans)
URL:https://indico.math.cnrs.fr/event/10702/
END:VEVENT
END:VCALENDAR
