BEGIN:VCALENDAR
VERSION:2.0
PRODID:-//CERN//INDICO//EN
BEGIN:VEVENT
SUMMARY:What’s the deal with Topology ?
DTSTART:20231123T130000Z
DTEND:20231123T150000Z
DTSTAMP:20260423T083000Z
UID:indico-event-10657@indico.math.cnrs.fr
DESCRIPTION:Speakers: Anthony Saint-Criq\n\nWhat's the difference between 
 a doughnut and a bretzel? How to hang a frame to a wall in a sneaky way? H
 ow to prove that a rope and metal ring puzzle is impossible to solve? How 
 to be sure that the granny knot and the figure-eight knot are actually dif
 ferent? Those seemingly different (yet equally bizarre) questions have dee
 p ramifications in Topology\, and it turns out that to answer them\, it re
 volves around using the same construction. Instead of going into the fuss 
 of the algebraic details\, we will give the rough ideas\, accompanying the
 m with pictures (after all\, I have to stick to the cliché of the topolog
 ist!).\n\nhttps://indico.math.cnrs.fr/event/10657/
LOCATION:Salle Johnson (1R3)
URL:https://indico.math.cnrs.fr/event/10657/
END:VEVENT
END:VCALENDAR
