BEGIN:VCALENDAR
VERSION:2.0
PRODID:-//CERN//INDICO//EN
BEGIN:VEVENT
SUMMARY:Signatures des TQFT et noeuds à deux ponts
DTSTART:20231205T101500Z
DTEND:20231205T111500Z
DTSTAMP:20260423T155700Z
UID:indico-event-10629@indico.math.cnrs.fr
DESCRIPTION:Speakers: Julien Marché\n\nLes représentations quantiques en
  une racine de l'unité fixée forment une famille de représentations des
  groupes modulaires dans des groupes de type PU(p\,q). Leur signature p-q 
 dépend d'une algèbre de Frobenius définie dans un travail précédent a
 vec B. Deroin. Je vais expliquer ici un fait inattendu: cette algèbre est
  (presque tout le temps) isomorphe au corps des traces d'un noeud à deux 
 ponts dont les paramètres sont reliés à la racine de l'unité choisie.
  \n\nhttps://indico.math.cnrs.fr/event/10629/
LOCATION:Pellos
URL:https://indico.math.cnrs.fr/event/10629/
END:VEVENT
END:VCALENDAR
