BEGIN:VCALENDAR
VERSION:2.0
PRODID:-//CERN//INDICO//EN
BEGIN:VEVENT
SUMMARY:Invariants de surfaces nouées en dimension 4 via les 'diagrammes 
 de coupe'
DTSTART:20231121T101500Z
DTEND:20231121T111500Z
DTSTAMP:20260423T145300Z
UID:indico-event-10574@indico.math.cnrs.fr
DESCRIPTION:Speakers: Jean-Baptiste Meilhan\n\nLe but de cet exposé est d
 e définir une famille d'invariantstopologiques des surfaces nouées en di
 mension 4. La constructions'inspire des invariants de Milnor des entrelacs
 \, qui sont desinvariants de concordance extraits des quotients nilpotents
  du groupefondamental du complémentaire.Un ingrédient central est la not
 ion de 'diagramme de coupe'\, qui estun objet combinatoire associé à une
  surface nouée\, qui code de façonassez simple les ingrédients topologi
 ques nécessaires à ce typed'invariants. Grosso modo\, un diagramme de co
 upe est un diagramme (detype diagramme de nœuds) sur une surface\, décor
 é par des informationscombinatoires. On donnera quelques exemples et appl
 ications concrètesde nos invariants.Il s'agit d'un travail en commun avec
  Benjamin Audoux et Akira Yasuhara.Aucun prérequis sur la dimension 4 n'e
 st nécessaire.\n\nhttps://indico.math.cnrs.fr/event/10574/
LOCATION:Pellos
URL:https://indico.math.cnrs.fr/event/10574/
END:VEVENT
END:VCALENDAR
