BEGIN:VCALENDAR
VERSION:2.0
PRODID:-//CERN//INDICO//EN
BEGIN:VEVENT
SUMMARY:Emmanuel Militon\, "Dynamique des homéomorphismes de surface et g
 raphe des courbes fins"
DTSTART:20231214T093000Z
DTEND:20231214T110000Z
DTSTAMP:20260424T113100Z
UID:indico-event-10331@indico.math.cnrs.fr
DESCRIPTION:Le graphe des courbes fin d'une surface fermée est un grapheh
 yperbolique au sens de Gromov sur lequel le groupe des homéomorphismesde 
 la surface agit fidèlement par isométrie. Dans cet exposé\, nousévoque
 rons les liens qui existent entre la dynamique d'un homéomorphismesur la 
 surface et le type d'isométrie de son action sur le graphe descourbes fin
 .Travaux en commun avec Jonathan Bowden\, Sebastian Hensel\, Kathryn Manne
 t Richard Webb d'une part et Pierre-Antoine Guihéneuf d'autre part.\n\nht
 tps://indico.math.cnrs.fr/event/10331/
URL:https://indico.math.cnrs.fr/event/10331/
END:VEVENT
END:VCALENDAR
