BEGIN:VCALENDAR
VERSION:2.0
PRODID:-//CERN//INDICO//EN
BEGIN:VEVENT
SUMMARY:Guillaume Aubrun\, "Produits tensoriels de cônes"
DTSTART:20231009T133000Z
DTEND:20231009T140000Z
DTSTAMP:20260423T021500Z
UID:indico-event-10239@indico.math.cnrs.fr
DESCRIPTION:Un cône convexe peut être décrit "par l'extérieur" comme i
 ntersection d'une famille de demi-espaces ou "par l'intérieur" comme enve
 loppe convexe d'une famille de demi-droites. Ces deux approches duales do
 nnent lieu aux notions de produit tensoriel minimal ("par l'intérieur") e
 t de produit tensoriel maximal ("par l'extérieur") entre deux cônes conv
 exes. Nous expliquerons quelques éléments de la preuve du réstulat sui
 vant : les produits tensoriels minimal et maximal de deux cônes coïncide
 nt si et seulement si l'un des deux cônes est basé sur un simplexe.\n\nh
 ttps://indico.math.cnrs.fr/event/10239/
LOCATION:Amphi A (UMPA)
URL:https://indico.math.cnrs.fr/event/10239/
END:VEVENT
END:VCALENDAR
