BEGIN:VCALENDAR
VERSION:2.0
PRODID:-//CERN//INDICO//EN
BEGIN:VEVENT
SUMMARY:Olivier de Gaay Fortman\, "Une nouvelle construction de réseaux n
 on-arithmétiques à l'aide de la théorie de Hodge"
DTSTART:20231130T093000Z
DTEND:20231130T110000Z
DTSTAMP:20260423T111200Z
UID:indico-event-10236@indico.math.cnrs.fr
DESCRIPTION:Pour étudier les espaces localement symétriques de volume fi
 ni\, on voudrait classer les sous-groupes discrets dans les groupes de Lie
  semi-simples. En 1987\, Gromov et Piatetskii-Shapiro ont construit les pr
 emières exemples des réseaux non arithmétiques dans PO(n\,1) pour n > 1
 . On ne sait pas s'ils existent beaucoup d'autres exemples des réseaux no
 n arithmétiques dans PO(n\,1). Dans cet exposé\, je donnerai une constru
 ction nouvelle et différente de tels groupes\, à l'aide de la théorie d
 e Hodge et la géométrie algébrique réelle.\n\nhttps://indico.math.cnrs
 .fr/event/10236/
URL:https://indico.math.cnrs.fr/event/10236/
END:VEVENT
END:VCALENDAR
