BEGIN:VCALENDAR
VERSION:2.0
PRODID:-//CERN//INDICO//EN
BEGIN:VEVENT
SUMMARY:Une réponse complète au problème de la densité forte pour les 
 espaces de Sobolev à valeurs dans une variété
DTSTART:20230911T120000Z
DTEND:20230911T130000Z
DTSTAMP:20260423T145300Z
UID:indico-event-10027@indico.math.cnrs.fr
DESCRIPTION:Speakers: Antoine Detaille (Lyon 1)\n\nEn contraste marquant a
 vec le cas classique d'applications à valeurs réelles\, l'espace des fon
 ctions lisses à valeurs dans une variété $N$ n'est pas nécessairement 
 dense dans l'espace des fonctions $W^{s\,p}$ à valeurs dans $N$.Le probl
 ème de déterminer pour quelles valeurs de $s$ et de $p$ il y a ou non de
 nsité\, connu sous le nom de problème de la densité forte\, est lié à
  la topologie de la variété cible $N$.Dans cet exposé\, je présenterai
  en détail le problème de la densité forte\, je dresserai l'historique 
 des contributions à l'étude de ce problème\, et j'expliquerai la répon
 se complète au problème\, avec une preuve unifiée couvrant toutes les v
 aleurs intéressantes de $s$ et de $p$.\n\nhttps://indico.math.cnrs.fr/eve
 nt/10027/
LOCATION:Amphi Schwartz
URL:https://indico.math.cnrs.fr/event/10027/
END:VEVENT
END:VCALENDAR
